BEGIN:VCALENDAR
VERSION:2.0
PRODID:-//jEvents 2.0 for Joomla//EN
CALSCALE:GREGORIAN
METHOD:PUBLISH
BEGIN:VTIMEZONE
TZID:Europe/Berlin
BEGIN:STANDARD
DTSTART:20221030T020000
RDATE:20230326T030000
TZOFFSETFROM:+0200
TZOFFSETTO:+0100
TZNAME:Europe/Berlin CET
END:STANDARD
BEGIN:STANDARD
DTSTART:20231029T020000
RDATE:20240331T030000
TZOFFSETFROM:+0200
TZOFFSETTO:+0100
TZNAME:Europe/Berlin CET
END:STANDARD
BEGIN:STANDARD
DTSTART:20241027T020000
RDATE:20250330T030000
TZOFFSETFROM:+0200
TZOFFSETTO:+0100
TZNAME:Europe/Berlin CET
END:STANDARD
BEGIN:STANDARD
DTSTART:20251026T020000
RDATE:20260329T030000
TZOFFSETFROM:+0200
TZOFFSETTO:+0100
TZNAME:Europe/Berlin CET
END:STANDARD
BEGIN:STANDARD
DTSTART:20261025T020000
RDATE:20270328T030000
TZOFFSETFROM:+0200
TZOFFSETTO:+0100
TZNAME:Europe/Berlin CET
END:STANDARD
BEGIN:STANDARD
DTSTART:20271031T020000
RDATE:20280326T030000
TZOFFSETFROM:+0200
TZOFFSETTO:+0100
TZNAME:Europe/Berlin CET
END:STANDARD
BEGIN:STANDARD
DTSTART:20281029T020000
RDATE:20290325T030000
TZOFFSETFROM:+0200
TZOFFSETTO:+0100
TZNAME:Europe/Berlin CET
END:STANDARD
BEGIN:STANDARD
DTSTART:20291028T020000
RDATE:20300331T030000
TZOFFSETFROM:+0200
TZOFFSETTO:+0100
TZNAME:Europe/Berlin CET
END:STANDARD
BEGIN:STANDARD
DTSTART:20301027T020000
RDATE:20310330T030000
TZOFFSETFROM:+0200
TZOFFSETTO:+0100
TZNAME:Europe/Berlin CET
END:STANDARD
BEGIN:STANDARD
DTSTART:20311026T020000
RDATE:20320328T030000
TZOFFSETFROM:+0200
TZOFFSETTO:+0100
TZNAME:Europe/Berlin CET
END:STANDARD
BEGIN:DAYLIGHT
DTSTART:20220601T093000
RDATE:20221030T020000
TZOFFSETFROM:+0100
TZOFFSETTO:+0200
TZNAME:Europe/Berlin CEST
END:DAYLIGHT
BEGIN:DAYLIGHT
DTSTART:20230326T030000
RDATE:20231029T020000
TZOFFSETFROM:+0100
TZOFFSETTO:+0200
TZNAME:Europe/Berlin CEST
END:DAYLIGHT
BEGIN:DAYLIGHT
DTSTART:20240331T030000
RDATE:20241027T020000
TZOFFSETFROM:+0100
TZOFFSETTO:+0200
TZNAME:Europe/Berlin CEST
END:DAYLIGHT
BEGIN:DAYLIGHT
DTSTART:20250330T030000
RDATE:20251026T020000
TZOFFSETFROM:+0100
TZOFFSETTO:+0200
TZNAME:Europe/Berlin CEST
END:DAYLIGHT
BEGIN:DAYLIGHT
DTSTART:20260329T030000
RDATE:20261025T020000
TZOFFSETFROM:+0100
TZOFFSETTO:+0200
TZNAME:Europe/Berlin CEST
END:DAYLIGHT
BEGIN:DAYLIGHT
DTSTART:20270328T030000
RDATE:20271031T020000
TZOFFSETFROM:+0100
TZOFFSETTO:+0200
TZNAME:Europe/Berlin CEST
END:DAYLIGHT
BEGIN:DAYLIGHT
DTSTART:20280326T030000
RDATE:20281029T020000
TZOFFSETFROM:+0100
TZOFFSETTO:+0200
TZNAME:Europe/Berlin CEST
END:DAYLIGHT
BEGIN:DAYLIGHT
DTSTART:20290325T030000
RDATE:20291028T020000
TZOFFSETFROM:+0100
TZOFFSETTO:+0200
TZNAME:Europe/Berlin CEST
END:DAYLIGHT
BEGIN:DAYLIGHT
DTSTART:20300331T030000
RDATE:20301027T020000
TZOFFSETFROM:+0100
TZOFFSETTO:+0200
TZNAME:Europe/Berlin CEST
END:DAYLIGHT
BEGIN:DAYLIGHT
DTSTART:20310330T030000
RDATE:20311026T020000
TZOFFSETFROM:+0100
TZOFFSETTO:+0200
TZNAME:Europe/Berlin CEST
END:DAYLIGHT
END:VTIMEZONE
BEGIN:VEVENT
UID:e2e29af95fff275b1b475992fb951cfe
CATEGORIES:Termine und Veranstaltungen
CREATED:20230531T154643
SUMMARY:Lehrpfad Mascherode
DESCRIPTION:<p>Das Landvolk Braunschweiger Land e. V. und die Mascheroder Gedenkstein- 
 und Wasserbruderschaft laden zur "Tour de Flur" längs des Lehrpfades der La
 ndwirtschaft nach Mascherode ein.</p><p>Ortsansässige Landwirte werden über
  ihre Frühjahrsbestellung, die Entwicklung der Blühstreifen und allgemeine 
 Belange ihrer Wirtschaftsweisen informieren und weitere Fragen gern beantwo
 rten.&nbsp;</p><p>Kommen Sie gern vorbei. Wir freuen uns, Ihnen einige Info
 ramtionen über die Landwirtschaft näher bringen zu dürfen.&nbsp;<a href="im
 ages/lehrpfad_02062023.pdf" class="wf_file">lehrpfad_02062023.pdf</a><span 
 id="_mce_caret" data-mce-bogus="1"></span></p>
X-ALT-DESC;FMTTYPE=text/html:<p>Das Landvolk Braunschweiger Land e. V. und die Mascheroder Gedenkstein- 
 und Wasserbruderschaft laden zur "Tour de Flur" längs des Lehrpfades der La
 ndwirtschaft nach Mascherode ein.</p><p>Ortsansässige Landwirte werden über
  ihre Frühjahrsbestellung, die Entwicklung der Blühstreifen und allgemeine 
 Belange ihrer Wirtschaftsweisen informieren und weitere Fragen gern beantwo
 rten.&nbsp;</p><p>Kommen Sie gern vorbei. Wir freuen uns, Ihnen einige Info
 ramtionen über die Landwirtschaft näher bringen zu dürfen.&nbsp;<a href="ht
 tps://www.landvolk-braunschweig.de/images/lehrpfad_02062023.pdf" class="wf_
 file">lehrpfad_02062023.pdf</a><span id="_mce_caret" data-mce-bogus="1"></s
 pan></p>
DTSTAMP:20260421T030720
DTSTART;TZID=Europe/Berlin:20230602T093000
DTEND;TZID=Europe/Berlin:20230602T120000
SEQUENCE:0
TRANSP:OPAQUE
END:VEVENT
END:VCALENDAR