BEGIN:VCALENDAR
VERSION:2.0
PRODID:-//jEvents 2.0 for Joomla//EN
CALSCALE:GREGORIAN
METHOD:PUBLISH
BEGIN:VTIMEZONE
TZID:Europe/Berlin
BEGIN:STANDARD
DTSTART:20221030T020000
RDATE:20230326T030000
TZOFFSETFROM:+0200
TZOFFSETTO:+0100
TZNAME:Europe/Berlin CET
END:STANDARD
BEGIN:STANDARD
DTSTART:20231029T020000
RDATE:20240331T030000
TZOFFSETFROM:+0200
TZOFFSETTO:+0100
TZNAME:Europe/Berlin CET
END:STANDARD
BEGIN:STANDARD
DTSTART:20241027T020000
RDATE:20250330T030000
TZOFFSETFROM:+0200
TZOFFSETTO:+0100
TZNAME:Europe/Berlin CET
END:STANDARD
BEGIN:STANDARD
DTSTART:20251026T020000
RDATE:20260329T030000
TZOFFSETFROM:+0200
TZOFFSETTO:+0100
TZNAME:Europe/Berlin CET
END:STANDARD
BEGIN:STANDARD
DTSTART:20261025T020000
RDATE:20270328T030000
TZOFFSETFROM:+0200
TZOFFSETTO:+0100
TZNAME:Europe/Berlin CET
END:STANDARD
BEGIN:STANDARD
DTSTART:20271031T020000
RDATE:20280326T030000
TZOFFSETFROM:+0200
TZOFFSETTO:+0100
TZNAME:Europe/Berlin CET
END:STANDARD
BEGIN:STANDARD
DTSTART:20281029T020000
RDATE:20290325T030000
TZOFFSETFROM:+0200
TZOFFSETTO:+0100
TZNAME:Europe/Berlin CET
END:STANDARD
BEGIN:STANDARD
DTSTART:20291028T020000
RDATE:20300331T030000
TZOFFSETFROM:+0200
TZOFFSETTO:+0100
TZNAME:Europe/Berlin CET
END:STANDARD
BEGIN:STANDARD
DTSTART:20301027T020000
RDATE:20310330T030000
TZOFFSETFROM:+0200
TZOFFSETTO:+0100
TZNAME:Europe/Berlin CET
END:STANDARD
BEGIN:STANDARD
DTSTART:20311026T020000
RDATE:20320328T030000
TZOFFSETFROM:+0200
TZOFFSETTO:+0100
TZNAME:Europe/Berlin CET
END:STANDARD
BEGIN:DAYLIGHT
DTSTART:20220524T140000
RDATE:20221030T020000
TZOFFSETFROM:+0100
TZOFFSETTO:+0200
TZNAME:Europe/Berlin CEST
END:DAYLIGHT
BEGIN:DAYLIGHT
DTSTART:20230326T030000
RDATE:20231029T020000
TZOFFSETFROM:+0100
TZOFFSETTO:+0200
TZNAME:Europe/Berlin CEST
END:DAYLIGHT
BEGIN:DAYLIGHT
DTSTART:20240331T030000
RDATE:20241027T020000
TZOFFSETFROM:+0100
TZOFFSETTO:+0200
TZNAME:Europe/Berlin CEST
END:DAYLIGHT
BEGIN:DAYLIGHT
DTSTART:20250330T030000
RDATE:20251026T020000
TZOFFSETFROM:+0100
TZOFFSETTO:+0200
TZNAME:Europe/Berlin CEST
END:DAYLIGHT
BEGIN:DAYLIGHT
DTSTART:20260329T030000
RDATE:20261025T020000
TZOFFSETFROM:+0100
TZOFFSETTO:+0200
TZNAME:Europe/Berlin CEST
END:DAYLIGHT
BEGIN:DAYLIGHT
DTSTART:20270328T030000
RDATE:20271031T020000
TZOFFSETFROM:+0100
TZOFFSETTO:+0200
TZNAME:Europe/Berlin CEST
END:DAYLIGHT
BEGIN:DAYLIGHT
DTSTART:20280326T030000
RDATE:20281029T020000
TZOFFSETFROM:+0100
TZOFFSETTO:+0200
TZNAME:Europe/Berlin CEST
END:DAYLIGHT
BEGIN:DAYLIGHT
DTSTART:20290325T030000
RDATE:20291028T020000
TZOFFSETFROM:+0100
TZOFFSETTO:+0200
TZNAME:Europe/Berlin CEST
END:DAYLIGHT
BEGIN:DAYLIGHT
DTSTART:20300331T030000
RDATE:20301027T020000
TZOFFSETFROM:+0100
TZOFFSETTO:+0200
TZNAME:Europe/Berlin CEST
END:DAYLIGHT
BEGIN:DAYLIGHT
DTSTART:20310330T030000
RDATE:20311026T020000
TZOFFSETFROM:+0100
TZOFFSETTO:+0200
TZNAME:Europe/Berlin CEST
END:DAYLIGHT
END:VTIMEZONE
BEGIN:VEVENT
UID:3430528d990b570bcd45af8541787ede
CATEGORIES:Termine und Veranstaltungen
CREATED:20230510T143122
SUMMARY:Junglandwirte laden zur Besichtigung ein 
DESCRIPTION:<p>Firma Strube in Söllingen;&nbsp;Treffpunkt:&nbsp;Strube D&amp;S GmbH<br 
 />Hauptstraße 1,&nbsp;38387 Söllingen</p><p>Geplanter Ablauf: <br />❖ Einfü
 hrung in das Unternehmen<br />❖ Durchlaufen der Station Zuckerrübe<br />❖ G
 emeinsames Kaffee trinken<br />❖ Roboter im Feldeinsatz</p><p>Zur besseren 
 Planung benötigen wir eine verbindliche Anmeldung bis zum 17. Mai 2023<br /
 >unter: <a href="mailto:junglandwirte-bs-land@gmx.de."><joomla-hidden-mail 
  is-link="1" is-email="1" first="anVuZ2xhbmR3aXJ0ZS1icy1sYW5k" last="Z214Lm
 Rl" text="anVuZ2xhbmR3aXJ0ZS1icy1sYW5kQGdteC5kZQ==" base="" >Diese E-Mail-A
 dresse ist vor Spambots geschützt! Zur Anzeige muss JavaScript eingeschalte
 t sein.</joomla-hidden-mail>.</a> <a href="images/JlW_Strube_2023_Einladung
 .pdf" class="wf_file">JlW_Strube_2023_Einladung.pdf</a></p>
X-ALT-DESC;FMTTYPE=text/html:<p>Firma Strube in Söllingen;&nbsp;Treffpunkt:&nbsp;Strube D&amp;S GmbH<br 
 />Hauptstraße 1,&nbsp;38387 Söllingen</p><p>Geplanter Ablauf: <br />❖ Einfü
 hrung in das Unternehmen<br />❖ Durchlaufen der Station Zuckerrübe<br />❖ G
 emeinsames Kaffee trinken<br />❖ Roboter im Feldeinsatz</p><p>Zur besseren 
 Planung benötigen wir eine verbindliche Anmeldung bis zum 17. Mai 2023<br /
 >unter: <a href="mailto:junglandwirte-bs-land@gmx.de."><joomla-hidden-mail 
  is-link="1" is-email="1" first="anVuZ2xhbmR3aXJ0ZS1icy1sYW5k" last="Z214Lm
 Rl" text="anVuZ2xhbmR3aXJ0ZS1icy1sYW5kQGdteC5kZQ==" base="" >Diese E-Mail-A
 dresse ist vor Spambots geschützt! Zur Anzeige muss JavaScript eingeschalte
 t sein.</joomla-hidden-mail>.</a> <a href="https://www.landvolk-braunschwei
 g.de/images/JlW_Strube_2023_Einladung.pdf" class="wf_file">JlW_Strube_2023_
 Einladung.pdf</a></p>
DTSTAMP:20260423T092732
DTSTART;TZID=Europe/Berlin:20230525T140000
DTEND;TZID=Europe/Berlin:20230525T180000
SEQUENCE:0
TRANSP:OPAQUE
END:VEVENT
END:VCALENDAR