BEGIN:VCALENDAR
VERSION:2.0
PRODID:-//jEvents 2.0 for Joomla//EN
CALSCALE:GREGORIAN
METHOD:PUBLISH
BEGIN:VTIMEZONE
TZID:Europe/Berlin
BEGIN:STANDARD
DTSTART:20221030T020000
RDATE:20230326T030000
TZOFFSETFROM:+0200
TZOFFSETTO:+0100
TZNAME:Europe/Berlin CET
END:STANDARD
BEGIN:STANDARD
DTSTART:20231029T020000
RDATE:20240331T030000
TZOFFSETFROM:+0200
TZOFFSETTO:+0100
TZNAME:Europe/Berlin CET
END:STANDARD
BEGIN:STANDARD
DTSTART:20241027T020000
RDATE:20250330T030000
TZOFFSETFROM:+0200
TZOFFSETTO:+0100
TZNAME:Europe/Berlin CET
END:STANDARD
BEGIN:STANDARD
DTSTART:20251026T020000
RDATE:20260329T030000
TZOFFSETFROM:+0200
TZOFFSETTO:+0100
TZNAME:Europe/Berlin CET
END:STANDARD
BEGIN:STANDARD
DTSTART:20261025T020000
RDATE:20270328T030000
TZOFFSETFROM:+0200
TZOFFSETTO:+0100
TZNAME:Europe/Berlin CET
END:STANDARD
BEGIN:STANDARD
DTSTART:20271031T020000
RDATE:20280326T030000
TZOFFSETFROM:+0200
TZOFFSETTO:+0100
TZNAME:Europe/Berlin CET
END:STANDARD
BEGIN:STANDARD
DTSTART:20281029T020000
RDATE:20290325T030000
TZOFFSETFROM:+0200
TZOFFSETTO:+0100
TZNAME:Europe/Berlin CET
END:STANDARD
BEGIN:STANDARD
DTSTART:20291028T020000
RDATE:20300331T030000
TZOFFSETFROM:+0200
TZOFFSETTO:+0100
TZNAME:Europe/Berlin CET
END:STANDARD
BEGIN:STANDARD
DTSTART:20301027T020000
RDATE:20310330T030000
TZOFFSETFROM:+0200
TZOFFSETTO:+0100
TZNAME:Europe/Berlin CET
END:STANDARD
BEGIN:STANDARD
DTSTART:20311026T020000
RDATE:20320328T030000
TZOFFSETFROM:+0200
TZOFFSETTO:+0100
TZNAME:Europe/Berlin CET
END:STANDARD
BEGIN:DAYLIGHT
DTSTART:20220613T104500
RDATE:20221030T020000
TZOFFSETFROM:+0100
TZOFFSETTO:+0200
TZNAME:Europe/Berlin CEST
END:DAYLIGHT
BEGIN:DAYLIGHT
DTSTART:20230326T030000
RDATE:20231029T020000
TZOFFSETFROM:+0100
TZOFFSETTO:+0200
TZNAME:Europe/Berlin CEST
END:DAYLIGHT
BEGIN:DAYLIGHT
DTSTART:20240331T030000
RDATE:20241027T020000
TZOFFSETFROM:+0100
TZOFFSETTO:+0200
TZNAME:Europe/Berlin CEST
END:DAYLIGHT
BEGIN:DAYLIGHT
DTSTART:20250330T030000
RDATE:20251026T020000
TZOFFSETFROM:+0100
TZOFFSETTO:+0200
TZNAME:Europe/Berlin CEST
END:DAYLIGHT
BEGIN:DAYLIGHT
DTSTART:20260329T030000
RDATE:20261025T020000
TZOFFSETFROM:+0100
TZOFFSETTO:+0200
TZNAME:Europe/Berlin CEST
END:DAYLIGHT
BEGIN:DAYLIGHT
DTSTART:20270328T030000
RDATE:20271031T020000
TZOFFSETFROM:+0100
TZOFFSETTO:+0200
TZNAME:Europe/Berlin CEST
END:DAYLIGHT
BEGIN:DAYLIGHT
DTSTART:20280326T030000
RDATE:20281029T020000
TZOFFSETFROM:+0100
TZOFFSETTO:+0200
TZNAME:Europe/Berlin CEST
END:DAYLIGHT
BEGIN:DAYLIGHT
DTSTART:20290325T030000
RDATE:20291028T020000
TZOFFSETFROM:+0100
TZOFFSETTO:+0200
TZNAME:Europe/Berlin CEST
END:DAYLIGHT
BEGIN:DAYLIGHT
DTSTART:20300331T030000
RDATE:20301027T020000
TZOFFSETFROM:+0100
TZOFFSETTO:+0200
TZNAME:Europe/Berlin CEST
END:DAYLIGHT
BEGIN:DAYLIGHT
DTSTART:20310330T030000
RDATE:20311026T020000
TZOFFSETFROM:+0100
TZOFFSETTO:+0200
TZNAME:Europe/Berlin CEST
END:DAYLIGHT
END:VTIMEZONE
BEGIN:VEVENT
UID:b616fd768d734476eee7046c5390f1d1
CATEGORIES:Termine und Veranstaltungen
CREATED:20230510T142602
SUMMARY:FINKA-Feldtag
DESCRIPTION:Der diesjährige FINKA-Feldtag findet zum Thema „Maisanbau“ in Bettmar im La
 ndkreis Peine statt. Es wird Ihnen ein buntes Programm bestehend aus fachli
 chem Austausch, Vorträgen und einer anschließenden Feldbegehung geboten. Wi
 r bitten Sie, wie immer, sich mit Ihrer Kleidung den Witterungsverhältnisse
 n anzupassen. Aufgrund der begrenzten Platzzahl und eines Imbisses bitten w
 ir um Anmeldung unter:  (https://finka-projekt.de/feldtag-im-lk-peine/)http
 s://finka-projekt.de/feldtag-im-lk-peine/ (https://finka-projekt.de/feldtag
 -im-lk-peine/) \n20230614_FINKA_BraunschweigerLand_Programm.pdf\n
X-ALT-DESC;FMTTYPE=text/html:<p><span style="font-family: arial, helvetica, sans-serif;">Der diesjährige
  <strong>FINKA-Feldtag</strong> findet zum Thema <strong>„Maisanbau“</stron
 g> in Bettmar im Landkreis Peine statt. Es wird Ihnen ein buntes Programm b
 estehend aus fachlichem Austausch, Vorträgen und einer anschließenden Feldb
 egehung geboten. Wir bitten Sie, wie immer, sich mit Ihrer Kleidung den Wit
 terungsverhältnissen anzupassen. Aufgrund der begrenzten Platzzahl und eine
 s Imbisses bitten wir um Anmeldung unter: <a href="https://finka-projekt.de
 /feldtag-im-lk-peine/"></a><a href="https://finka-projekt.de/feldtag-im-lk-
 peine/">https://finka-projekt.de/feldtag-im-lk-peine/</a> </span></p><p><a 
 href="https://www.landvolk-braunschweig.de/images/20230614_FINKA_Braunschwe
 igerLand_Programm.pdf" class="wf_file">20230614_FINKA_BraunschweigerLand_Pr
 ogramm.pdf</a></p>
DTSTAMP:20260421T030557
DTSTART;TZID=Europe/Berlin:20230614T104500
DTEND;TZID=Europe/Berlin:20230614T150000
SEQUENCE:0
TRANSP:OPAQUE
END:VEVENT
END:VCALENDAR