BEGIN:VCALENDAR
VERSION:2.0
PRODID:-//jEvents 2.0 for Joomla//EN
CALSCALE:GREGORIAN
METHOD:PUBLISH
BEGIN:VTIMEZONE
TZID:Europe/Berlin
BEGIN:STANDARD
DTSTART:20220223T090000
RDATE:20220327T030000
TZOFFSETFROM:+0200
TZOFFSETTO:+0100
TZNAME:Europe/Berlin CET
END:STANDARD
BEGIN:STANDARD
DTSTART:20221030T020000
RDATE:20230326T030000
TZOFFSETFROM:+0200
TZOFFSETTO:+0100
TZNAME:Europe/Berlin CET
END:STANDARD
BEGIN:STANDARD
DTSTART:20231029T020000
RDATE:20240331T030000
TZOFFSETFROM:+0200
TZOFFSETTO:+0100
TZNAME:Europe/Berlin CET
END:STANDARD
BEGIN:STANDARD
DTSTART:20241027T020000
RDATE:20250330T030000
TZOFFSETFROM:+0200
TZOFFSETTO:+0100
TZNAME:Europe/Berlin CET
END:STANDARD
BEGIN:STANDARD
DTSTART:20251026T020000
RDATE:20260329T030000
TZOFFSETFROM:+0200
TZOFFSETTO:+0100
TZNAME:Europe/Berlin CET
END:STANDARD
BEGIN:STANDARD
DTSTART:20261025T020000
RDATE:20270328T030000
TZOFFSETFROM:+0200
TZOFFSETTO:+0100
TZNAME:Europe/Berlin CET
END:STANDARD
BEGIN:STANDARD
DTSTART:20271031T020000
RDATE:20280326T030000
TZOFFSETFROM:+0200
TZOFFSETTO:+0100
TZNAME:Europe/Berlin CET
END:STANDARD
BEGIN:STANDARD
DTSTART:20281029T020000
RDATE:20290325T030000
TZOFFSETFROM:+0200
TZOFFSETTO:+0100
TZNAME:Europe/Berlin CET
END:STANDARD
BEGIN:STANDARD
DTSTART:20291028T020000
RDATE:20300331T030000
TZOFFSETFROM:+0200
TZOFFSETTO:+0100
TZNAME:Europe/Berlin CET
END:STANDARD
BEGIN:STANDARD
DTSTART:20301027T020000
RDATE:20310330T030000
TZOFFSETFROM:+0200
TZOFFSETTO:+0100
TZNAME:Europe/Berlin CET
END:STANDARD
BEGIN:STANDARD
DTSTART:20311026T020000
RDATE:20320328T030000
TZOFFSETFROM:+0200
TZOFFSETTO:+0100
TZNAME:Europe/Berlin CET
END:STANDARD
BEGIN:DAYLIGHT
DTSTART:20220327T030000
RDATE:20221030T020000
TZOFFSETFROM:+0100
TZOFFSETTO:+0200
TZNAME:Europe/Berlin CEST
END:DAYLIGHT
BEGIN:DAYLIGHT
DTSTART:20230326T030000
RDATE:20231029T020000
TZOFFSETFROM:+0100
TZOFFSETTO:+0200
TZNAME:Europe/Berlin CEST
END:DAYLIGHT
BEGIN:DAYLIGHT
DTSTART:20240331T030000
RDATE:20241027T020000
TZOFFSETFROM:+0100
TZOFFSETTO:+0200
TZNAME:Europe/Berlin CEST
END:DAYLIGHT
BEGIN:DAYLIGHT
DTSTART:20250330T030000
RDATE:20251026T020000
TZOFFSETFROM:+0100
TZOFFSETTO:+0200
TZNAME:Europe/Berlin CEST
END:DAYLIGHT
BEGIN:DAYLIGHT
DTSTART:20260329T030000
RDATE:20261025T020000
TZOFFSETFROM:+0100
TZOFFSETTO:+0200
TZNAME:Europe/Berlin CEST
END:DAYLIGHT
BEGIN:DAYLIGHT
DTSTART:20270328T030000
RDATE:20271031T020000
TZOFFSETFROM:+0100
TZOFFSETTO:+0200
TZNAME:Europe/Berlin CEST
END:DAYLIGHT
BEGIN:DAYLIGHT
DTSTART:20280326T030000
RDATE:20281029T020000
TZOFFSETFROM:+0100
TZOFFSETTO:+0200
TZNAME:Europe/Berlin CEST
END:DAYLIGHT
BEGIN:DAYLIGHT
DTSTART:20290325T030000
RDATE:20291028T020000
TZOFFSETFROM:+0100
TZOFFSETTO:+0200
TZNAME:Europe/Berlin CEST
END:DAYLIGHT
BEGIN:DAYLIGHT
DTSTART:20300331T030000
RDATE:20301027T020000
TZOFFSETFROM:+0100
TZOFFSETTO:+0200
TZNAME:Europe/Berlin CEST
END:DAYLIGHT
BEGIN:DAYLIGHT
DTSTART:20310330T030000
RDATE:20311026T020000
TZOFFSETFROM:+0100
TZOFFSETTO:+0200
TZNAME:Europe/Berlin CEST
END:DAYLIGHT
END:VTIMEZONE
BEGIN:VEVENT
UID:ddd61206d27e177db77ed0e316a116a6
CATEGORIES:Termine und Veranstaltungen
CREATED:20230222T083059
SUMMARY:digitale Gemeindeverbandsversammlung
DESCRIPTION:Das Landvolk, Braunschweiger Land e.V. lädt seine Mitglieder, denen eine Te
 ilnahme an den  Präsenzveranstaltung nicht möglich war, zu einem Zoom-Meeti
 ng ein. Natürlich ist denjenigen, die präsenz anwesend waren, eine Teilnahm
 e ebenfalls noch einmal möglich. \nThema: Gemeindeverbandsversammlung digit
 al und überregional\nDie Tagesordnung ist folgende: \n 1. Begrüßung; 2. Vor
 stand; 3. Bericht aus der Geschäftsstelle; 4. Bericht aus der Landwirtschaf
 tskammer (angefragt); 5. Verschiedenes\nUhrzeit: 24.Feb. 2023 09:00 Amsterd
 am, Berlin, Rom, Stockholm, Wien\nZoom-Meeting beitreten\n (https://us06web
 .zoom.us/j/89698947234?pwd=WktKR0FUYmtweFZUakVoOUxPclViQT09)https://us06web
 .zoom.us/j/89698947234?pwd=WktKR0FUYmtweFZUakVoOUxPclViQT09 (https://us06we
 b.zoom.us/j/89698947234?pwd=WktKR0FUYmtweFZUakVoOUxPclViQT09)\nMeeting-ID: 
 896 9894 7234\nKenncode: 710363\nSchnelleinwahl mobil\n+496938079883,,89698
 947234#,,,,*710363# Deutschland\n+496938079884,,89698947234#,,,,*710363# De
 utschland\nEinwahl nach aktuellem Standort\n        +49 69 3807 9883 Deutsc
 hland\n        +49 69 3807 9884 Deutschland\n        +49 69 5050 0951 Deuts
 chland\n        +49 69 5050 0952 Deutschland\n        +49 695 050 2596 Deut
 schland\n        +49 69 7104 9922 Deutschland\nMeeting-ID: 896 9894 7234\nK
 enncode: 710363\nOrtseinwahl suchen:  (https://us06web.zoom.us/u/ks7hGcwC7)
 https://us06web.zoom.us/u/ks7hGcwC7 (https://us06web.zoom.us/u/ks7hGcwC7)\n
X-ALT-DESC;FMTTYPE=text/html:<p>Das Landvolk, Braunschweiger Land e.V. lädt seine Mitglieder, denen eine
  Teilnahme an den&nbsp; Präsenzveranstaltung nicht möglich war, zu einem Zo
 om-Meeting ein. Natürlich ist denjenigen, die präsenz anwesend waren, eine 
 Teilnahme ebenfalls noch einmal möglich.&nbsp;</p><p>Thema: <strong>Gemeind
 everbandsversammlung digital und überregional</strong></p><p>Die Tagesordnu
 ng ist folgende: <br /> 1. Begrüßung; 2. Vorstand; 3. Bericht aus der Gesch
 äftsstelle; 4. Bericht aus der Landwirtschaftskammer (angefragt); 5. Versch
 iedenes</p><p><strong>Uhrzeit: 24.Feb. 2023 09:00 </strong>Amsterdam, Berli
 n, Rom, Stockholm, Wien</p><p>Zoom-Meeting beitreten</p><p><a href="https:/
 /us06web.zoom.us/j/89698947234?pwd=WktKR0FUYmtweFZUakVoOUxPclViQT09"></a><a
  href="https://us06web.zoom.us/j/89698947234?pwd=WktKR0FUYmtweFZUakVoOUxPcl
 ViQT09">https://us06web.zoom.us/j/89698947234?pwd=WktKR0FUYmtweFZUakVoOUxPc
 lViQT09</a></p><p>Meeting-ID: 896 9894 7234</p><p>Kenncode: 710363</p><p>Sc
 hnelleinwahl mobil</p><p>+496938079883,,89698947234#,,,,*710363# Deutschlan
 d</p><p>+496938079884,,89698947234#,,,,*710363# Deutschland</p><p>Einwahl n
 ach aktuellem Standort</p><p>&nbsp;&nbsp;&nbsp;&nbsp;&nbsp;&nbsp;&nbsp; +49
  69 3807 9883 Deutschland</p><p>&nbsp;&nbsp;&nbsp;&nbsp;&nbsp;&nbsp;&nbsp; 
 +49 69 3807 9884 Deutschland</p><p>&nbsp;&nbsp;&nbsp;&nbsp;&nbsp;&nbsp;&nbs
 p; +49 69 5050 0951 Deutschland</p><p>&nbsp;&nbsp;&nbsp;&nbsp;&nbsp;&nbsp;&
 nbsp; +49 69 5050 0952 Deutschland</p><p>&nbsp;&nbsp;&nbsp;&nbsp;&nbsp;&nbs
 p;&nbsp; +49 695 050 2596 Deutschland</p><p>&nbsp;&nbsp;&nbsp;&nbsp;&nbsp;&
 nbsp;&nbsp; +49 69 7104 9922 Deutschland</p><p>Meeting-ID: 896 9894 7234</p
 ><p>Kenncode: 710363</p><p>Ortseinwahl suchen: <a href="https://us06web.zoo
 m.us/u/ks7hGcwC7"></a><a href="https://us06web.zoom.us/u/ks7hGcwC7">https:/
 /us06web.zoom.us/u/ks7hGcwC7</a></p>
DTSTAMP:20260421T030603
DTSTART;TZID=Europe/Berlin:20230224T090000
DTEND;TZID=Europe/Berlin:20230224T123000
SEQUENCE:0
TRANSP:OPAQUE
END:VEVENT
END:VCALENDAR