BEGIN:VCALENDAR
VERSION:2.0
PRODID:-//jEvents 2.0 for Joomla//EN
CALSCALE:GREGORIAN
METHOD:PUBLISH
BEGIN:VTIMEZONE
TZID:Europe/Berlin
BEGIN:STANDARD
DTSTART:20220206T093000
RDATE:20220327T030000
TZOFFSETFROM:+0200
TZOFFSETTO:+0100
TZNAME:Europe/Berlin CET
END:STANDARD
BEGIN:STANDARD
DTSTART:20221030T020000
RDATE:20230326T030000
TZOFFSETFROM:+0200
TZOFFSETTO:+0100
TZNAME:Europe/Berlin CET
END:STANDARD
BEGIN:STANDARD
DTSTART:20231029T020000
RDATE:20240331T030000
TZOFFSETFROM:+0200
TZOFFSETTO:+0100
TZNAME:Europe/Berlin CET
END:STANDARD
BEGIN:STANDARD
DTSTART:20241027T020000
RDATE:20250330T030000
TZOFFSETFROM:+0200
TZOFFSETTO:+0100
TZNAME:Europe/Berlin CET
END:STANDARD
BEGIN:STANDARD
DTSTART:20251026T020000
RDATE:20260329T030000
TZOFFSETFROM:+0200
TZOFFSETTO:+0100
TZNAME:Europe/Berlin CET
END:STANDARD
BEGIN:STANDARD
DTSTART:20261025T020000
RDATE:20270328T030000
TZOFFSETFROM:+0200
TZOFFSETTO:+0100
TZNAME:Europe/Berlin CET
END:STANDARD
BEGIN:STANDARD
DTSTART:20271031T020000
RDATE:20280326T030000
TZOFFSETFROM:+0200
TZOFFSETTO:+0100
TZNAME:Europe/Berlin CET
END:STANDARD
BEGIN:STANDARD
DTSTART:20281029T020000
RDATE:20290325T030000
TZOFFSETFROM:+0200
TZOFFSETTO:+0100
TZNAME:Europe/Berlin CET
END:STANDARD
BEGIN:STANDARD
DTSTART:20291028T020000
RDATE:20300331T030000
TZOFFSETFROM:+0200
TZOFFSETTO:+0100
TZNAME:Europe/Berlin CET
END:STANDARD
BEGIN:STANDARD
DTSTART:20301027T020000
RDATE:20310330T030000
TZOFFSETFROM:+0200
TZOFFSETTO:+0100
TZNAME:Europe/Berlin CET
END:STANDARD
BEGIN:STANDARD
DTSTART:20311026T020000
RDATE:20320328T030000
TZOFFSETFROM:+0200
TZOFFSETTO:+0100
TZNAME:Europe/Berlin CET
END:STANDARD
BEGIN:DAYLIGHT
DTSTART:20220327T030000
RDATE:20221030T020000
TZOFFSETFROM:+0100
TZOFFSETTO:+0200
TZNAME:Europe/Berlin CEST
END:DAYLIGHT
BEGIN:DAYLIGHT
DTSTART:20230326T030000
RDATE:20231029T020000
TZOFFSETFROM:+0100
TZOFFSETTO:+0200
TZNAME:Europe/Berlin CEST
END:DAYLIGHT
BEGIN:DAYLIGHT
DTSTART:20240331T030000
RDATE:20241027T020000
TZOFFSETFROM:+0100
TZOFFSETTO:+0200
TZNAME:Europe/Berlin CEST
END:DAYLIGHT
BEGIN:DAYLIGHT
DTSTART:20250330T030000
RDATE:20251026T020000
TZOFFSETFROM:+0100
TZOFFSETTO:+0200
TZNAME:Europe/Berlin CEST
END:DAYLIGHT
BEGIN:DAYLIGHT
DTSTART:20260329T030000
RDATE:20261025T020000
TZOFFSETFROM:+0100
TZOFFSETTO:+0200
TZNAME:Europe/Berlin CEST
END:DAYLIGHT
BEGIN:DAYLIGHT
DTSTART:20270328T030000
RDATE:20271031T020000
TZOFFSETFROM:+0100
TZOFFSETTO:+0200
TZNAME:Europe/Berlin CEST
END:DAYLIGHT
BEGIN:DAYLIGHT
DTSTART:20280326T030000
RDATE:20281029T020000
TZOFFSETFROM:+0100
TZOFFSETTO:+0200
TZNAME:Europe/Berlin CEST
END:DAYLIGHT
BEGIN:DAYLIGHT
DTSTART:20290325T030000
RDATE:20291028T020000
TZOFFSETFROM:+0100
TZOFFSETTO:+0200
TZNAME:Europe/Berlin CEST
END:DAYLIGHT
BEGIN:DAYLIGHT
DTSTART:20300331T030000
RDATE:20301027T020000
TZOFFSETFROM:+0100
TZOFFSETTO:+0200
TZNAME:Europe/Berlin CEST
END:DAYLIGHT
BEGIN:DAYLIGHT
DTSTART:20310330T030000
RDATE:20311026T020000
TZOFFSETFROM:+0100
TZOFFSETTO:+0200
TZNAME:Europe/Berlin CEST
END:DAYLIGHT
END:VTIMEZONE
BEGIN:VEVENT
UID:aecec2bcf9b931910c9ecaf4afb85790
CATEGORIES:Termine und Veranstaltungen
CREATED:20230126T151716
SUMMARY:Gemeindeverband Peine
DESCRIPTION:Im Gildesaal, Hotel und Restaurant Schützenhaus, Kantstraße 1 a, 31224 Pein
 e \nFolgende Tagesordnung ist geplant:\n1.    Begrüßung, Eröffnung der Geme
 indeverbandsversammlung \n2.    Vorstand\n2.1  Situation der Landwirtschaft
  im Braunschweiger Land\n2.2  GAP-Reform 2023\n2.3  Aktuelle Agrarpolitik, 
 Landwirtschaft und Umwelt \n3.    Bericht aus der Geschäftsstelle      \n4.
     Bericht aus der Landwirtschaftskammer\n       Betriebswirtschaft, Versc
 hiedenes\n5.    Verschiedenes\n
X-ALT-DESC;FMTTYPE=text/html:<p>Im Gildesaal, Hotel und Restaurant Schützenhaus, Kantstraße 1 a, 31224 P
 eine&nbsp;</p><p>Folgende Tagesordnung ist geplant:</p><p><strong>1.&nbsp;&
 nbsp;&nbsp; Begrüßung, Eröffnung der Gemeindeverbandsversammlung</strong><s
 trong>&nbsp;</strong></p><p><strong>2. &nbsp;&nbsp; Vorstand</strong></p><p
 >2.1&nbsp; Situation der Landwirtschaft im Braunschweiger Land</p><p>2.2&nb
 sp; GAP-Reform 2023</p><p>2.3&nbsp; Aktuelle Agrarpolitik, Landwirtschaft u
 nd Umwelt<strong>&nbsp;</strong></p><p><strong>3.&nbsp;&nbsp;&nbsp; Bericht
  aus der Geschäftsstelle</strong>&nbsp; &nbsp; &nbsp;&nbsp;</p><p><strong>4
 .&nbsp;&nbsp;&nbsp; Bericht aus der Landwirtschaftskammer</strong></p><p>&n
 bsp;&nbsp;&nbsp;&nbsp;&nbsp;&nbsp; Betriebswirtschaft, Verschiedenes</p><p>
 <strong>5.&nbsp;&nbsp;&nbsp; Verschiedenes</strong></p>
DTSTAMP:20260421T030737
DTSTART;TZID=Europe/Berlin:20230207T093000
DTEND;TZID=Europe/Berlin:20230207T130000
SEQUENCE:0
TRANSP:OPAQUE
END:VEVENT
END:VCALENDAR