BEGIN:VCALENDAR
VERSION:2.0
PRODID:-//jEvents 2.0 for Joomla//EN
CALSCALE:GREGORIAN
METHOD:PUBLISH
BEGIN:VTIMEZONE
TZID:Europe/Berlin
BEGIN:STANDARD
DTSTART:20220131T143000
RDATE:20220327T030000
TZOFFSETFROM:+0200
TZOFFSETTO:+0100
TZNAME:Europe/Berlin CET
END:STANDARD
BEGIN:STANDARD
DTSTART:20221030T020000
RDATE:20230326T030000
TZOFFSETFROM:+0200
TZOFFSETTO:+0100
TZNAME:Europe/Berlin CET
END:STANDARD
BEGIN:STANDARD
DTSTART:20231029T020000
RDATE:20240331T030000
TZOFFSETFROM:+0200
TZOFFSETTO:+0100
TZNAME:Europe/Berlin CET
END:STANDARD
BEGIN:STANDARD
DTSTART:20241027T020000
RDATE:20250330T030000
TZOFFSETFROM:+0200
TZOFFSETTO:+0100
TZNAME:Europe/Berlin CET
END:STANDARD
BEGIN:STANDARD
DTSTART:20251026T020000
RDATE:20260329T030000
TZOFFSETFROM:+0200
TZOFFSETTO:+0100
TZNAME:Europe/Berlin CET
END:STANDARD
BEGIN:STANDARD
DTSTART:20261025T020000
RDATE:20270328T030000
TZOFFSETFROM:+0200
TZOFFSETTO:+0100
TZNAME:Europe/Berlin CET
END:STANDARD
BEGIN:STANDARD
DTSTART:20271031T020000
RDATE:20280326T030000
TZOFFSETFROM:+0200
TZOFFSETTO:+0100
TZNAME:Europe/Berlin CET
END:STANDARD
BEGIN:STANDARD
DTSTART:20281029T020000
RDATE:20290325T030000
TZOFFSETFROM:+0200
TZOFFSETTO:+0100
TZNAME:Europe/Berlin CET
END:STANDARD
BEGIN:STANDARD
DTSTART:20291028T020000
RDATE:20300331T030000
TZOFFSETFROM:+0200
TZOFFSETTO:+0100
TZNAME:Europe/Berlin CET
END:STANDARD
BEGIN:STANDARD
DTSTART:20301027T020000
RDATE:20310330T030000
TZOFFSETFROM:+0200
TZOFFSETTO:+0100
TZNAME:Europe/Berlin CET
END:STANDARD
BEGIN:STANDARD
DTSTART:20311026T020000
RDATE:20320328T030000
TZOFFSETFROM:+0200
TZOFFSETTO:+0100
TZNAME:Europe/Berlin CET
END:STANDARD
BEGIN:DAYLIGHT
DTSTART:20220327T030000
RDATE:20221030T020000
TZOFFSETFROM:+0100
TZOFFSETTO:+0200
TZNAME:Europe/Berlin CEST
END:DAYLIGHT
BEGIN:DAYLIGHT
DTSTART:20230326T030000
RDATE:20231029T020000
TZOFFSETFROM:+0100
TZOFFSETTO:+0200
TZNAME:Europe/Berlin CEST
END:DAYLIGHT
BEGIN:DAYLIGHT
DTSTART:20240331T030000
RDATE:20241027T020000
TZOFFSETFROM:+0100
TZOFFSETTO:+0200
TZNAME:Europe/Berlin CEST
END:DAYLIGHT
BEGIN:DAYLIGHT
DTSTART:20250330T030000
RDATE:20251026T020000
TZOFFSETFROM:+0100
TZOFFSETTO:+0200
TZNAME:Europe/Berlin CEST
END:DAYLIGHT
BEGIN:DAYLIGHT
DTSTART:20260329T030000
RDATE:20261025T020000
TZOFFSETFROM:+0100
TZOFFSETTO:+0200
TZNAME:Europe/Berlin CEST
END:DAYLIGHT
BEGIN:DAYLIGHT
DTSTART:20270328T030000
RDATE:20271031T020000
TZOFFSETFROM:+0100
TZOFFSETTO:+0200
TZNAME:Europe/Berlin CEST
END:DAYLIGHT
BEGIN:DAYLIGHT
DTSTART:20280326T030000
RDATE:20281029T020000
TZOFFSETFROM:+0100
TZOFFSETTO:+0200
TZNAME:Europe/Berlin CEST
END:DAYLIGHT
BEGIN:DAYLIGHT
DTSTART:20290325T030000
RDATE:20291028T020000
TZOFFSETFROM:+0100
TZOFFSETTO:+0200
TZNAME:Europe/Berlin CEST
END:DAYLIGHT
BEGIN:DAYLIGHT
DTSTART:20300331T030000
RDATE:20301027T020000
TZOFFSETFROM:+0100
TZOFFSETTO:+0200
TZNAME:Europe/Berlin CEST
END:DAYLIGHT
BEGIN:DAYLIGHT
DTSTART:20310330T030000
RDATE:20311026T020000
TZOFFSETFROM:+0100
TZOFFSETTO:+0200
TZNAME:Europe/Berlin CEST
END:DAYLIGHT
END:VTIMEZONE
BEGIN:VEVENT
UID:b88523b171da51089b879a1b0668b5e4
CATEGORIES:Termine und Veranstaltungen
CREATED:20230119T113715
SUMMARY:Rote Gebiete +++ Zoom-Infoveranstaltung
DESCRIPTION:<p>Wie bereits bekannt, wird das Land Niedersachsen neue Rote Gebiete auswe
 isen, in denen die bedarfsgerechte Düngung eingeschränkt ist. Das betroffen
 e alte und neue Gebiet finden Sie unter folgendem Link: <a href="&lt;a href
 =" mailto="" 235128="" 10="" 55845="" 52="" 26735r0="">#<joomla-hidden-mail
   is-link="1" is-email="1" first="MjM1MTI4" last="MTAuNTU4NDU=" text="MjM1M
 TI4QDEwLjU1ODQ1" base="" >Diese E-Mail-Adresse ist vor Spambots geschützt! 
 Zur Anzeige muss JavaScript eingeschaltet sein.</joomla-hidden-mail>/52.267
 35r0</a>@EPSG:25832"&gt;<a href="https://sla.niedersachsen.de/landentwicklu
 ng/LEA/?#235128">https://sla.niedersachsen.de/landentwicklung/LEA/?#235128<
 /a>@<a href="mailto:10.55845/52.26735r0@EPSG:25832">10.55845/52.26735r0@EPS
 G:25832</a></p><p>Zum Vortrag über die weitere Vorgehensweise laden wir her
 zlich zu einer Videokonferenz via Zoom ein.</p><p><strong>&nbsp;</strong><s
 trong>Thema: Rote Gebiete im Braunschweiger Land</strong></p><ol start="1" 
 type="1"><li><strong>Erläuterung der Gebietsausweisung – aktueller Stand</s
 trong> <br /> Hydrogeologe <strong>Dr. Stephan Hannappel</strong>, Büro HYD
 OR Consult GmbH, Berlin<br /> Herr Dr. Hannappel erstellte das Gutachten zu
 r Überprüfung der Ausweisung der Gebietskulisse 2021/2022 und überprüft auc
 h die aktualisierte Version.</li><li><strong>Erläuterung der rechtlichen Vo
 rgehensweise gegen die Ausweisung</strong><br /> Rechtsanwalt<strong> Dr. H
 elge-Marten Voigts</strong>, Kanzlei JTHB, Lübeck.<br /> Herr Dr. Voigts ha
 tte bereits die rechtliche Vertretung für die Klagen aus den bisherigen rot
 en Gebiete übernommen.</li></ol><p>Die Zugangsdaten sind unseren Mitglieder
 n mit E-Mailschreiben vom 18.01.2023 zugegangen</p>
X-ALT-DESC;FMTTYPE=text/html:<p>Wie bereits bekannt, wird das Land Niedersachsen neue Rote Gebiete auswe
 isen, in denen die bedarfsgerechte Düngung eingeschränkt ist. Das betroffen
 e alte und neue Gebiet finden Sie unter folgendem Link: <a href="https://ww
 w.landvolk-braunschweig.de/&lt;a href="https://www.landvolk-braunschweig.de
 / mailto="" 235128="" 10="" 55845="" 52="" 26735r0="">#<joomla-hidden-mail 
  is-link="1" is-email="1" first="MjM1MTI4" last="MTAuNTU4NDU=" text="MjM1MT
 I4QDEwLjU1ODQ1" base="" >Diese E-Mail-Adresse ist vor Spambots geschützt! Z
 ur Anzeige muss JavaScript eingeschaltet sein.</joomla-hidden-mail>/52.2673
 5r0</a>@EPSG:25832"&gt;<a href="https://sla.niedersachsen.de/landentwicklun
 g/LEA/?#235128">https://sla.niedersachsen.de/landentwicklung/LEA/?#235128</
 a>@<a href="mailto:10.55845/52.26735r0@EPSG:25832">10.55845/52.26735r0@EPSG
 :25832</a></p><p>Zum Vortrag über die weitere Vorgehensweise laden wir herz
 lich zu einer Videokonferenz via Zoom ein.</p><p><strong>&nbsp;</strong><st
 rong>Thema: Rote Gebiete im Braunschweiger Land</strong></p><ol start="1" t
 ype="1"><li><strong>Erläuterung der Gebietsausweisung – aktueller Stand</st
 rong> <br /> Hydrogeologe <strong>Dr. Stephan Hannappel</strong>, Büro HYDO
 R Consult GmbH, Berlin<br /> Herr Dr. Hannappel erstellte das Gutachten zur
  Überprüfung der Ausweisung der Gebietskulisse 2021/2022 und überprüft auch
  die aktualisierte Version.</li><li><strong>Erläuterung der rechtlichen Vor
 gehensweise gegen die Ausweisung</strong><br /> Rechtsanwalt<strong> Dr. He
 lge-Marten Voigts</strong>, Kanzlei JTHB, Lübeck.<br /> Herr Dr. Voigts hat
 te bereits die rechtliche Vertretung für die Klagen aus den bisherigen rote
 n Gebiete übernommen.</li></ol><p>Die Zugangsdaten sind unseren Mitgliedern
  mit E-Mailschreiben vom 18.01.2023 zugegangen</p>
DTSTAMP:20260421T030747
DTSTART;TZID=Europe/Berlin:20230201T143000
DTEND;TZID=Europe/Berlin:20230201T170000
SEQUENCE:0
TRANSP:OPAQUE
END:VEVENT
END:VCALENDAR